Workbook

Sheet Plan 4.5-II
A1: Planilha referente ao item "4.5-II" do Edital para seleção de orientadores e bolsistas de iniciação tecnológica e inovação para o período de 2020-2021
A2: Preencha o número de suas produções na coluna "Nº de produções", de acordo com critérios à esquerda, considerando o currículo Lattes. A pontuação, à direita, será calculada automaticamente. Após preencher, salve o arquivo e anexe-o no sistema de inscrição, junto com demais documentos, conforme instruções do Edital. A janela de avaliação vai de 2016 a 2019 no caso geral, mas pode ser diferente no caso de quem teve licença maternidade ou adotante desde 2015, conforme Anexo 2 do Edital. Se você teve licença maternidade ou adotante desde 2015 preencha o campo específico abaixo.
A3: Nome: | B3: (seu nome aqui) | C3: Quantas vezes teve licença maternidade ou adotante desde 2015? | E3: (número de licenças aqui)
A5: Critérios | C5: Nº de produções (preencher esta coluna) | D5: Pontuação
A6: =CONCATENATE("1. Qualidade e regularidade da produção científica nos anos de ",IF(ISNUMBER(E3),2016-E3,"2016")," a 2019",CHAR(10),CHAR(10),IF(OR(E3=0,NOT(ISNUMBER(E3))),"(Período correspondente a quem não teve licenças maternidade ou adotante desde 2015)",CONCATENATE("(Período correspondente a quem teve ",E3," licença(s) maternidade ou adotante desde 2015)"))) -> 1. Qualidade e regularidade da produção científica nos anos de 2016 a 2019 (Período correspondente a quem não teve licenças maternidade ou adotante desde 2015) | B6: Nº de artigos em periódicos da área com qualis A (1 e 2) | D6: =C6*0.5 -> 0 | E6: 0,50 por artigo
B7: Nº de artigos em periódicos da área com qualis A (3 e 4) | D7: =C7*0.3 -> 0 | E7: 0,30 por artigo
B8: Nº de artigos em periódicos da área com qualis B | D8: =C8*0.2 -> 0 | E8: 0,20 por artigo
B9: Nº de artigos em periódicos da área com sem qualis | D9: =C9*0.1 -> 0 | E9: 0,10 por artigo
B10: Nº de trabalhos completos publicados em anais de eventos científicos/tecnológicos | D10: =C10*0.2 -> 0 | E10: 0,20 por trabalho
B11: Nº de publicações de livros didáticos, científicos e/ou de desenvolvimento tecnológico com corpo editorial | D11: =C11*1 -> 0 | E11: 1,00 por livro
B12: Nº de publicações de capítulos de livros didáticos, científicos e/ou de desenvolvimento tecnológico com corpo editorial | D12: =C12*0.5 -> 0 | E12: 0,50 por capítulo de livro
B13: Nº de livros didáticos, científicos e/ou de desenvolvimento tecnológico com corpo editorial organizados/editados | D13: =C13*0.25 -> 0 | E13: 0,25 por organização/edição
D14: =IF(SUM(D6:D13)<2,SUM(D6:D13),2) -> 0 | E14: Nota Critério 1, máximo 2 pontos.
A15: 2. Propriedade Intelectual | B15: Nº de patentes depositadas | D15: =C15*1.5 -> 0 | E15: 1,50 por patente
B16: Nº de patentes concedidas | D16: =C16*2 -> 0 | E16: 2,00 por patente
B17: Nº de registros de software | D17: =C17*1.5 -> 0 | E17: 1,50 por registro
B18: Nº de marcas registradas | D18: =C18*1 -> 0 | E18: 1,00 por registro
B19: Nº de outros registros (cultivar, indicação geográfica, etc.) | D19: =C19*1 -> 0 | E19: 1,00 por registro
D20: =IF(SUM(D15:D19)<2,SUM(D15:D19),2) -> 0 | E20: Nota Critério 2, máximo 2 pontos.
A21: 3. Experiência em projetos de inovação tecnológica e captação de recursos | B21: Nº de participações em projetos de inovação em redes interinstitucionais | D21: =C21*0.5 -> 0 | E21: 0,50 por projeto
B22: Nº de participações em projetos com empresas e/ou terceiro setor | D22: =C22*0.5 -> 0 | E22: 0,50 por projeto
B23: Nº participações em projetos de extensão de cunho tecnológico ou de inovação | D23: =C23*0.5 -> 0 | E23: 0,50 por projeto
B24: Nº de projetos contemplados com recursos captados junto a órgãos de fomento e/ou empresas | D24: =C24*0.5 -> 0 | E24: 0,50 por projeto contemplado
D25: =IF(SUM(D21:D24)<2,SUM(D21:D24),2) -> 0 | E25: Nota Critério 3, máximo 2 pontos.
A26: =CONCATENATE("4. Experiência compatível com a função de orientador e capacidade em formar recursos humanos - período de ",IF(ISNUMBER(E3),2016-E3,"2016")," a 2019",CHAR(10),CHAR(10),IF(OR(E3=0,NOT(ISNUMBER(E3))),"(Período correspondente a quem não teve licenças maternidade ou adotante desde 2015)",CONCATENATE("(Período correspondente a quem teve ",E3," licença(s) maternidade ou adotante desde 2015)"))) -> 4. Experiência compatível com a função de orientador e capacidade em formar recursos humanos - período de 2016 a 2019 (Período correspondente a quem não teve licenças maternidade ou adotante desde 2015) | B26: Nº de supervisões de pós-doutorado concluídas | D26: =C26*0.3 -> 0 | E26: 0,30 por supervisão
B27: Nº de orientações de doutorado concluídas | D27: =C27*0.4 -> 0 | E27: 0,40 por orientação
B28: Nº de orientações de mestrado concluídas | D28: =C28*0.2 -> 0 | E28: 0,20 por orientação
B29: Nº de orientações de especialização concluídas | D29: =C29*0.1 -> 0 | E29: 0,10 por orientação
B30: Nº de orientações de TCC e Iniciação Científica concluídas | D30: =C30*0.1 -> 0 | E30: 0,10 por orientação
B31: Nº de supervisões de pós-doutorado em andamento | D31: =C31*0.15 -> 0 | E31: 0,15 por supervisão
B32: Nº de orientações de doutorado em andamento | D32: =C32*0.2 -> 0 | E32: 0,20 por orientação
B33: Nº de orientações de mestrado em andamento | D33: =C33*0.1 -> 0 | E33: 0,10 por orientação
B34: Nº de orientações de especialização em andamento | D34: =C34*0.05 -> 0 | E34: 0,05 por orientação
B35: Nº de orientações de TCC e Iniciação Científica em andamento | D35: =C35*0.05 -> 0 | E35: 0,05 por orientação
B36: Nº de semestres em supervisão de empresa júnior | D36: =C36*0.05 -> 0 | E36: 0,05 por semestre
D37: =IF(SUM(D26:D36)<2,SUM(D26:D36),2) -> 0 | E37: Nota Critério 4, máximo 2 pontos.
A38: 5. Pesquisador do CNPq | B38: Tem bolsa PQ ou DT do CNPq? (escolher sim/não) | D38: =IF(C38="sim",1,0) -> 0 | E38: 1,00 ponto se bolsista PQ ou DT.
D39: =IF(SUM(D38)<1,SUM(D38),1) -> 0 | E39: Nota Critério 5, máximo 1 ponto.
A40: 6. Capacitação em inovação e propriedade intelectual | B40: Nº de cursos de formação docente da UFCSPA em bases de inovação e propriedade intelectual | D40: =C40*1 -> 0 | E40: 1,00 por curso
B41: Nº de cursos de propriedade intelectual oferecidos pelo INPI ou pela OMPI/WIPO | D41: =C41*1 -> 0 | E41: 1,00 por curso
D42: =IF(SUM(D40:D41)<1,SUM(D40:D41),1) -> 0 | E42: Nota Critério 6, máximo 1 ponto.
A43: =CONCATENATE("Nota 'PESQUISADOR': ",ROUND(SUM(D14,D20,D25,D37,D39,D42)*0.4,2)," pontos") -> Nota 'PESQUISADOR': 0 pontos | C43: Esta nota corresponde à nota "PESQUISADOR" referida no item 5.1-I do Edital, já reduzida ao peso de 40% da nota final. A esta nota será somada a nota “PROJETO/PLANO DE ATIVIDADES” referida no item 5.1-II do Edital, que comporá 60% da nota final, conforme item 5.3 do Edital.
A44: Após preencher a planilha, salve o arquivo e anexe-o no sistema de inscrição, junto com demais documentos, conforme instruções do Edital.

Sheet a
A1: ='Plan 4.5-II'!C6 -> 0 | B1: ='Plan 4.5-II'!C7 -> 0 | C1: ='Plan 4.5-II'!C8 -> 0 | D1: ='Plan 4.5-II'!C9 -> 0 | E1: ='Plan 4.5-II'!C10 -> 0 | F1: ='Plan 4.5-II'!C11 -> 0 | G1: ='Plan 4.5-II'!C12 -> 0 | H1: ='Plan 4.5-II'!C13 -> 0 | I1: ='Plan 4.5-II'!C15 -> 0 | J1: ='Plan 4.5-II'!C16 -> 0 | K1: ='Plan 4.5-II'!C17 -> 0 | L1: ='Plan 4.5-II'!C18 -> 0 | M1: ='Plan 4.5-II'!C19 -> 0 | N1: ='Plan 4.5-II'!C21 -> 0 | O1: ='Plan 4.5-II'!C22 -> 0 | P1: ='Plan 4.5-II'!C23 -> 0 | Q1: ='Plan 4.5-II'!C24 -> 0 | R1: ='Plan 4.5-II'!C26 -> 0 | S1: ='Plan 4.5-II'!C27 -> 0 | T1: ='Plan 4.5-II'!C28 -> 0 | U1: ='Plan 4.5-II'!C29 -> 0 | V1: ='Plan 4.5-II'!C30 -> 0 | W1: ='Plan 4.5-II'!C31 -> 0 | X1: ='Plan 4.5-II'!C32 -> 0 | Y1: ='Plan 4.5-II'!C33 -> 0 | Z1: ='Plan 4.5-II'!C34 -> 0 | AA1: ='Plan 4.5-II'!C35 -> 0 | AB1: ='Plan 4.5-II'!C36 -> 0 | AC1: ='Plan 4.5-II'!C38 -> 0 | AD1: ='Plan 4.5-II'!C40 -> 0 | AE1: ='Plan 4.5-II'!C41 -> 0 | AH1: sim
AH2: não
